BEGIN:VCALENDAR
VERSION:2.0
PRODID:-//Cartwright&#039;s Market - ECPv6.15.20//NONSGML v1.0//EN
CALSCALE:GREGORIAN
METHOD:PUBLISH
X-WR-CALNAME:Cartwright&#039;s Market
X-ORIGINAL-URL:https://cartwrightsmarket.com
X-WR-CALDESC:Events for Cartwright&#039;s Market
REFRESH-INTERVAL;VALUE=DURATION:PT1H
X-Robots-Tag:noindex
X-PUBLISHED-TTL:PT1H
BEGIN:VTIMEZONE
TZID:America/Los_Angeles
BEGIN:DAYLIGHT
TZOFFSETFROM:-0800
TZOFFSETTO:-0700
TZNAME:PDT
DTSTART:20250309T100000
END:DAYLIGHT
BEGIN:STANDARD
TZOFFSETFROM:-0700
TZOFFSETTO:-0800
TZNAME:PST
DTSTART:20251102T090000
END:STANDARD
BEGIN:DAYLIGHT
TZOFFSETFROM:-0800
TZOFFSETTO:-0700
TZNAME:PDT
DTSTART:20260308T100000
END:DAYLIGHT
BEGIN:STANDARD
TZOFFSETFROM:-0700
TZOFFSETTO:-0800
TZNAME:PST
DTSTART:20261101T090000
END:STANDARD
BEGIN:DAYLIGHT
TZOFFSETFROM:-0800
TZOFFSETTO:-0700
TZNAME:PDT
DTSTART:20270314T100000
END:DAYLIGHT
BEGIN:STANDARD
TZOFFSETFROM:-0700
TZOFFSETTO:-0800
TZNAME:PST
DTSTART:20271107T090000
END:STANDARD
END:VTIMEZONE
BEGIN:VEVENT
DTSTART;TZID=America/Los_Angeles:20260423T160000
DTEND;TZID=America/Los_Angeles:20260423T190000
DTSTAMP:20260419T051752
CREATED:20260329T161027Z
LAST-MODIFIED:20260329T161125Z
UID:2792-1776960000-1776970800@cartwrightsmarket.com
SUMMARY:Brewery of the Month
DESCRIPTION:Tap takeover with Gold Dot and Heater Allen Brewing – First time in Southern Oregon! Taste a selection of classic beers brewed in McMinnville\, OR.
URL:https://cartwrightsmarket.com/medford-event/brewery-of-the-month/
LOCATION:Cartwright’s Taphouse\, 745 Stewart Ave.\, Medford\, OR\, 97501\, United States
CATEGORIES:Brewery,Tap Takeover
ATTACH;FMTTYPE=image/png:https://cartwrightsmarket.com/wp-content/uploads/2026/03/Heater-Allen.png
END:VEVENT
END:VCALENDAR